Workbook
Name JULIA: #REF!
Name JULIA: #REF!
Name NOMBRE: #REF!
Name NOMBRE: #REF!
Name NOMBRE: #REF!
Name ORS: #REF!
Name ORS: #REF!
Name Región: '[1]Criterios - No tocar'!$B$1:$K$1
Name TK: #REF!
Name TK: #REF!
Name TK: #REF!
Name Trimestre: '[1]Criterios - No tocar'!$M$2:$M$6

Sheet Estado de Situación
A1: Hospital Municipal Hondo Valle
A2: Balance general
A3: AL 30 DE NOVIEMBRE 2025
A4: (Valores en RD$)
A6: Activos | B6: 2025
A7: Activos corrientes
A8: Efectivo y equivalente de efectivo (Nota 7) | B8: ='Notas de los estados '!E11 -> 159540.44
A9: Inventarios (Nota 8) | B9: ='Notas de los estados '!E23 -> 1084255.2
A10: Cuentas por cobrar (Nota 9) | B10: ='Notas de los estados '!E34 -> 328245.78
A11: Total activos corrientes | B11: =SUM(B8:B10) -> 1572041.4
A13: Activos no corrientes
A14: Propiedad, Planta y equipos neto (Nota 10) | B14: ='Propiedad Planta '!I26 -> 224019.3
A15: Total activos no corrientes | B15: =B14 -> 224019.3
A17: Total activos | B17: =+B11+B15 -> 1796060.7
A19: Pasivos
A20: Pasivos Corrientes
A21: Cuentas por pagar a corto plazo (nota11) | B21: ='Notas de los estados '!E41 -> 65649.16
A22: Retenciones y acumulaciones por pagar (Nota 12) | B22: ='Notas de los estados '!E52 -> 76074.37
A23: Total pasivos corrientes | B23: =SUM(B21:B22) -> 141723.53
A25: Pasivos no corrientes
A26: Pasivos no corrientes
A28: Total pasivos no corrientes | B28: =SUM(B26:B26) -> 0
A31: Total pasivos | B31: =+B23+B28 -> 141723.53
A33: Activos Netos/Patrimonio (Nota 12)
A34: Patrimonio | B34: =B17-B31 -> 1654337.2
A35: Resultados positivos (ahorro)/negativo (desahorro) | B35: ='Flujo de Efectivo'!B22 -> 243235.13
A36: Resultado acumulado | B36: ='Est. de Rendimiento Fin'!B22 -> 209474.76
A37: Total activos netos/patrimonio | B37: =B17-B31 -> 1654337.2
A38: Total pasivos y activos netos/patrimonio | B38: =B31+B37 -> 1796060.7
A40: Idelfonso Montero Dra. Mariolys A. Beriguete Encarnacion Soporte tecnico Directora
A46: Las notas del 7 al 19 son parte integral de estos estados

Sheet Notas de los estados 
A1: Hospital Municipal de Hondo Valle
A2: NOTAS A LOS ESTADOS FINANCIEROS
A3: ='Estado de Situación'!A3:B3 -> AL 30 DE NOVIEMBRE 2025
A5: Efectivo y equivalentes de efectivo (Nota 7)
A6: Un detalle de Efectivo y equivalentes de efectivo al 30 de noviembre del 2025 es como sigue:
A7: Descripción | E7: 2025
A8: Efectivo en caja
A9: 3260000455 - Cuenta Anticipo financiero - Cuenta Corriente | E9: 77986.25
A10: 102-000559-6 - Cuenta venta de servicio - Cuenta corriente | E10: 81554.19
A11: TOTAL | E11: =SUM(E8:E10) -> 159540.44
A14: Inventarios (Nota 8)
A15: Un detalle de Inventarios al 30 de noviembre del 2025 es como sigue:
A16: Descripción | E16: 2025
A17: Medicamentos y materiales medico quiruricos | E17: 689016.17
A18: Alimentos y bebidas para personas y animales | E18: 292083.99
A19: Materiales para limpieza | E19: 103155
A20: Útiles de escritorio, oficina informática y enseñanza
A21: Laboratorio clinico
A22: Odontologia
A23: TOTAL | E23: =SUM(E17:E22) -> 1084255.2
A26: Cuentas por cobrar (Nota 9)
A27: Un detalle de Cuentas por cobrar al 30 de noviembre del 2025 es como sigue:
A28: Descripción | E28: 2025
A30: ARS senasa sub-sidiado | E30: =CXC!G22 -> 142768.32
A31: ARS senasa contributivo | E31: =CXC!D22 -> 177790.16
A32: ARS Senma | E32: =CXC!J22 -> 0
A33: ARS GMA | E33: =CXC!M22 -> 7687.3
A34: TOTAL | E34: =SUM(E29:E33) -> 328245.78
A37: Cuentas por pagar a corto plazo (Nota 11)
A38: Un detalle de Cuentas por pagar a corto plazo al 30 de noviembre del 2025 es como sigue:
A39: Descripción | E39: 2025
A40: Proveedores | E40: ='[2]DEUDA X FACTURA'!$F$46 -> 65649.16
A41: TOTAL | E41: =SUM(E40:E40) -> 65649.16
A45: Retenciones y acumulaciones por pagar (Nota 12)
A46: Un detalle de Retenciones y acumulaciones por pagar al 30 de noviembre 2025 es como sigue:
A47: Descripción | E47: 2025
A48: Prestaciones laborales
A49: Viatico | E49: =[2]OBLIGACIONES!$E$15 -> 2125
A50: Impuestos y retenciones a pagar a corto plazo sujetos a depuración | E50: =[2]OBLIGACIONES!$E$10 -> 10326.76
A51: Aprovisionamiento de incentivo | E51: =[2]OBLIGACIONES!$E$11 -> 63622.61
...

Sheet CXC
A1: SERVICIO REGIONAL DE SALUD
A2: DIRECCIÓN DE FISCALIZACIÓN Y CONTROL
A3: DETALLE DELAS CUENTAS POR COBRAR 2025
A4: ESTABLECIMIENTO:HOSPITAL MUNICIPAL HONDO VALLE
B7: ARS SENASA CONTRIBUTIVO | E7: ARS SENASA SUB-SIDIADO | H7: ARS SENASA SEMMA | K7: ARS SENASA GMA | N7: TOTAL
A8: PERIODO | B8: DEUDA FACTURADA | C8: PAGOS | D8: Total | E8: DEUDA FACTURADA2 | F8: PAGOS2 | G8: Total2 | H8: DEUDA FACTURADA23 | I8: PAGOS24 | J8: Total25 | K8: DEUDA FACTURADA232 | L8: PAGOS243 | M8: Total254 | N8: DEUDA FACTURADA2322 | O8: PAGOS2433 | P8: Total2544
A9: AL 31/12/2024 | D9: 68816.35 | G9: 169597.38 | J9: 56122.7 | M9: 7687.3 | P9: =Tabla134[[#This Row],[Total]]+Tabla134[[#This Row],[Total2]]+Tabla134[[#This Row],[Total25]]+Tabla134[[#This Row],[Total254]] -> 302223.73
A10: Enero | B10: 42750.75 | D10: =D9+Tabla134[[#This Row],[DEUDA FACTURADA]]-Tabla134[[#This Row],[PAGOS]] -> 111567.1 | E10: ='[4]SeNaSa Subsidiado'!$I$11 -> 74000.2 | F10: 97610.75 | G10: =G9+Tabla134[[#This Row],[DEUDA FACTURADA2]]-Tabla134[[#This Row],[PAGOS2]] -> 145986.83 | J10: =J9+Tabla134[[#This Row],[DEUDA FACTURADA23]]-Tabla134[[#This Row],[PAGOS24]] -> 56122.7 | M10: =M9+Tabla134[[#This Row],[DEUDA FACTURADA232]]-Tabla134[[#This Row],[PAGOS243]] -> 7687.3 | N10: =Tabla134[[#This Row],[DEUDA FACTURADA]]+Tabla134[[#This Row],[DEUDA FACTURADA2]]+Tabla134[[#This Row],[DEUDA FACTURADA23]]+K9 -> 116750.95 | O10: =Tabla134[[#This Row],[PAGOS]]+Tabla134[[#This Row],[PAGOS2]]+Tabla134[[#This Row],[PAGOS24]]+Tabla134[[#This Row],[PAGOS243]] -> 97610.75 | P10: =P9+Tabla134[[#This Row],[DEUDA FACTURADA2322]]-Tabla134[[#This Row],[PAGOS2433]] -> 321363.93
A11: Febrero | B11: 34023.87 | C11: 68816.35 | D11: =D10+Tabla134[[#This Row],[DEUDA FACTURADA]]-Tabla134[[#This Row],[PAGOS]] -> 76774.62 | E11: 92780.51 | F11: 71986.63 | G11: =G10+Tabla134[[#This Row],[DEUDA FACTURADA2]]-Tabla134[[#This Row],[PAGOS2]] -> 166780.71 | J11: =J10+Tabla134[[#This Row],[DEUDA FACTURADA23]]-Tabla134[[#This Row],[PAGOS24]] -> 56122.7 | M11: =M10+Tabla134[[#This Row],[DEUDA FACTURADA232]]-Tabla134[[#This Row],[PAGOS243]] -> 7687.3 | N11: =Tabla134[[#This Row],[DEUDA FACTURADA]]+Tabla134[[#This Row],[DEUDA FACTURADA2]]+Tabla134[[#This Row],[DEUDA FACTURADA23]]+K10 -> 126804.38 | O11: =Tabla134[[#This Row],[PAGOS]]+Tabla134[[#This Row],[PAGOS2]]+Tabla134[[#This Row],[PAGOS24]]+Tabla134[[#This Row],[PAGOS243]] -> 140802.98 | P11: =P10+Tabla134[[#This Row],[DEUDA FACTURADA2322]]-Tabla134[[#This Row],[PAGOS2433]] -> 307365.33
A12: Marzo | B12: ='[5]Factura de servicio'!$E$23 -> 84214.32 | D12: =D11+Tabla134[[#This Row],[DEUDA FACTURADA]]-Tabla134[[#This Row],[PAGOS]] -> 160988.94 | E12: ='[6]SeNaSa Subsidiado'!$F$16-'[6]SeNaSa Subsidiado'!$G$16 -> 83865.28 | F12: ='[6]SeNaSa Subsidiado'!$K$15 -> 74000.2 | G12: =G11+Tabla134[[#This Row],[DEUDA FACTURADA2]]-Tabla134[[#This Row],[PAGOS2]] -> 176645.79 | J12: =J11+Tabla134[[#This Row],[DEUDA FACTURADA23]]-Tabla134[[#This Row],[PAGOS24]] -> 56122.7 | M12: =M11+Tabla134[[#This Row],[DEUDA FACTURADA232]]-Tabla134[[#This Row],[PAGOS243]] -> 7687.3 | N12: =Tabla134[[#This Row],[DEUDA FACTURADA]]+Tabla134[[#This Row],[DEUDA FACTURADA2]]+Tabla134[[#This Row],[DEUDA FACTURADA23]]+K11 -> 168079.6 | O12: =Tabla134[[#This Row],[PAGOS]]+Tabla134[[#This Row],[PAGOS2]]+Tabla134[[#This Row],[PAGOS24]]+Tabla134[[#This Row],[PAGOS243]] -> 74000.2 | P12: =P11+Tabla134[[#This Row],[DEUDA FACTURADA2322]]-Tabla134[[#This Row],[PAGOS2433]] -> 401444.73
A13: Abril | B13: 19768.73 | C13: 41897.3 | D13: =D12+Tabla134[[#This Row],[DEUDA FACTURADA]]-Tabla134[[#This Row],[PAGOS]] -> 138860.37 | E13: 69695.67 | F13: 92780.51 | G13: =G12+Tabla134[[#This Row],[DEUDA FACTURADA2]]-Tabla134[[#This Row],[PAGOS2]] -> 153560.95 | I13: 56122.7 | J13: =J12+Tabla134[[#This Row],[DEUDA FACTURADA23]]-Tabla134[[#This Row],[PAGOS24]] -> 0 | M13: =M12+Tabla134[[#This Row],[DEUDA FACTURADA232]]-Tabla134[[#This Row],[PAGOS243]] -> 7687.3 | N13: =Tabla134[[#This Row],[DEUDA FACTURADA]]+Tabla134[[#This Row],[DEUDA FACTURADA2]]+Tabla134[[#This Row],[DEUDA FACTURADA23]]+K12 -> 89464.4 | O13: =Tabla134[[#This Row],[PAGOS]]+Tabla134[[#This Row],[PAGOS2]]+Tabla134[[#This Row],[PAGOS24]]+Tabla134[[#This Row],[PAGOS243]] -> 190800.51 | P13: =P12+Tabla134[[#This Row],[DEUDA FACTURADA2322]]-Tabla134[[#This Row],[PAGOS2433]] -> 300108.62
A14: Mayo | B14: 25516.36 | C14: 33876.99 | D14: =D13+Tabla134[[#This Row],[DEUDA FACTURADA]]-Tabla134[[#This Row],[PAGOS]] -> 130499.74 | E14: 118295.16 | F14: 83865.28 | G14: =G13+Tabla134[[#This Row],[DEUDA FACTURADA2]]-Tabla134[[#This Row],[PAGOS2]] -> 187990.83 | J14: =J13+Tabla134[[#This Row],[DEUDA FACTURADA23]]-Tabla134[[#This Row],[PAGOS24]] -> 0 | M14: =M13+Tabla134[[#This Row],[DEUDA FACTURADA232]]-Tabla134[[#This Row],[PAGOS243]] -> 7687.3 | N14: =Tabla134[[#This Row],[DEUDA FACTURADA]]+Tabla134[[#This Row],[DEUDA FACTURADA2]]+Tabla134[[#This Row],[DEUDA FACTURADA23]]+K13 -> 143811.52 | O14: =Tabla134[[#This Row],[PAGOS]]+Tabla134[[#This Row],[PAGOS2]]+Tabla134[[#This Row],[PAGOS24]]+Tabla134[[#This Row],[PAGOS243]] -> 117742.27 | P14: =P13+Tabla134[[#This Row],[DEUDA FACTURADA2322]]-Tabla134[[#This Row],[PAGOS2433]] -> 326177.87
A15: Junio | C15: 80265.55 | D15: =D14+Tabla134[[#This Row],[DEUDA FACTURADA]]-Tabla134[[#This Row],[PAGOS]] -> 50234.19 | E15: 104498.76 | F15: 69695.67 | G15: =G14+Tabla134[[#This Row],[DEUDA FACTURADA2]]-Tabla134[[#This Row],[PAGOS2]] -> 222793.92 | J15: =J14+Tabla134[[#This Row],[DEUDA FACTURADA23]]-Tabla134[[#This Row],[PAGOS24]] -> 0 | M15: =M14+Tabla134[[#This Row],[DEUDA FACTURADA232]]-Tabla134[[#This Row],[PAGOS243]] -> 7687.3 | N15: =Tabla134[[#This Row],[DEUDA FACTURADA]]+Tabla134[[#This Row],[DEUDA FACTURADA2]]+Tabla134[[#This Row],[DEUDA FACTURADA23]]+K14 -> 104498.76 | O15: =Tabla134[[#This Row],[PAGOS]]+Tabla134[[#This Row],[PAGOS2]]+Tabla134[[#This Row],[PAGOS24]]+Tabla134[[#This Row],[PAGOS243]] -> 149961.22 | P15: =P14+Tabla134[[#This Row],[DEUDA FACTURADA2322]]-Tabla134[[#This Row],[PAGOS2433]] -> 280715.41
A16: Julio | B16: 46869.16 | C16: 41021.87 | D16: =D15+Tabla134[[#This Row],[DEUDA FACTURADA]]-Tabla134[[#This Row],[PAGOS]] -> 56081.48 | E16: ='[7]AUXILIAR CXC'!$G$13 -> 104244.04 | F16: ='[7]AUXILIAR CXC'!$L$11 -> 115107.74 | G16: =G15+Tabla134[[#This Row],[DEUDA FACTURADA2]]-Tabla134[[#This Row],[PAGOS2]] -> 211930.22 | J16: =J15+Tabla134[[#This Row],[DEUDA FACTURADA23]]-Tabla134[[#This Row],[PAGOS24]] -> 0 | M16: =M15+Tabla134[[#This Row],[DEUDA FACTURADA232]]-Tabla134[[#This Row],[PAGOS243]] -> 7687.3 | N16: =Tabla134[[#This Row],[DEUDA FACTURADA]]+Tabla134[[#This Row],[DEUDA FACTURADA2]]+Tabla134[[#This Row],[DEUDA FACTURADA23]]+K15 -> 151113.2 | O16: =Tabla134[[#This Row],[PAGOS]]+Tabla134[[#This Row],[PAGOS2]]+Tabla134[[#This Row],[PAGOS24]]+Tabla134[[#This Row],[PAGOS243]] -> 156129.61 | P16: =P15+Tabla134[[#This Row],[DEUDA FACTURADA2322]]-Tabla134[[#This Row],[PAGOS2433]] -> 275699
A17: Agosto | D17: =D16+Tabla134[[#This Row],[DEUDA FACTURADA]]-Tabla134[[#This Row],[PAGOS]] -> 56081.48 | E17: 131507.74 | F17: 104498.76 | G17: =G16+Tabla134[[#This Row],[DEUDA FACTURADA2]]-Tabla134[[#This Row],[PAGOS2]] -> 238939.2 | H17: 45604.89 | J17: =J16+Tabla134[[#This Row],[DEUDA FACTURADA23]]-Tabla134[[#This Row],[PAGOS24]] -> 45604.89 | M17: =M16+Tabla134[[#This Row],[DEUDA FACTURADA232]]-Tabla134[[#This Row],[PAGOS243]] -> 7687.3 | N17: =Tabla134[[#This Row],[DEUDA FACTURADA]]+Tabla134[[#This Row],[DEUDA FACTURADA2]]+Tabla134[[#This Row],[DEUDA FACTURADA23]]+K16 -> 177112.63 | O17: =Tabla134[[#This Row],[PAGOS]]+Tabla134[[#This Row],[PAGOS2]]+Tabla134[[#This Row],[PAGOS24]]+Tabla134[[#This Row],[PAGOS243]] -> 104498.76 | P17: =P16+Tabla134[[#This Row],[DEUDA FACTURADA2322]]-Tabla134[[#This Row],[PAGOS2433]] -> 348312.87
A18: Septiembre | B18: 184334 | C18: 44828.94 | D18: =D17+Tabla134[[#This Row],[DEUDA FACTURADA]]-Tabla134[[#This Row],[PAGOS]] -> 195586.54 | E18: 91260.29 | F18: 101512.84 | G18: =G17+Tabla134[[#This Row],[DEUDA FACTURADA2]]-Tabla134[[#This Row],[PAGOS2]] -> 228686.65 | J18: =J17+Tabla134[[#This Row],[DEUDA FACTURADA23]]-Tabla134[[#This Row],[PAGOS24]] -> 45604.89 | M18: =M17+Tabla134[[#This Row],[DEUDA FACTURADA232]]-Tabla134[[#This Row],[PAGOS243]] -> 7687.3 | N18: =Tabla134[[#This Row],[DEUDA FACTURADA]]+Tabla134[[#This Row],[DEUDA FACTURADA2]]+Tabla134[[#This Row],[DEUDA FACTURADA23]]+K17 -> 275594.29 | O18: =Tabla134[[#This Row],[PAGOS]]+Tabla134[[#This Row],[PAGOS2]]+Tabla134[[#This Row],[PAGOS24]]+Tabla134[[#This Row],[PAGOS243]] -> 146341.78 | P18: =P17+Tabla134[[#This Row],[DEUDA FACTURADA2322]]-Tabla134[[#This Row],[PAGOS2433]] -> 477565.38
A19: Octubre | B19: 54865.05 | D19: =D18+Tabla134[[#This Row],[DEUDA FACTURADA]]-Tabla134[[#This Row],[PAGOS]] -> 250451.59 | E19: 136849.7 | F19: 131507.74 | G19: =G18+Tabla134[[#This Row],[DEUDA FACTURADA2]]-Tabla134[[#This Row],[PAGOS2]] -> 234028.61 | J19: =J18+Tabla134[[#This Row],[DEUDA FACTURADA23]]-Tabla134[[#This Row],[PAGOS24]] -> 45604.89 | M19: =M18+Tabla134[[#This Row],[DEUDA FACTURADA232]]-Tabla134[[#This Row],[PAGOS243]] -> 7687.3 | N19: =Tabla134[[#This Row],[DEUDA FACTURADA]]+Tabla134[[#This Row],[DEUDA FACTURADA2]]+Tabla134[[#This Row],[DEUDA FACTURADA23]]+K18 -> 191714.75 | O19: =Tabla134[[#This Row],[PAGOS]]+Tabla134[[#This Row],[PAGOS2]]+Tabla134[[#This Row],[PAGOS24]]+Tabla134[[#This Row],[PAGOS243]] -> 131507.74 | P19: =P18+Tabla134[[#This Row],[DEUDA FACTURADA2322]]-Tabla134[[#This Row],[PAGOS2433]] -> 537772.39
A20: Noviembre | C20: 72661.43 | D20: =D19+Tabla134[[#This Row],[DEUDA FACTURADA]]-Tabla134[[#This Row],[PAGOS]] -> 177790.16 | F20: 91260.29 | G20: =G19+Tabla134[[#This Row],[DEUDA FACTURADA2]]-Tabla134[[#This Row],[PAGOS2]] -> 142768.32 | I20: 45604.89 | J20: =J19+Tabla134[[#This Row],[DEUDA FACTURADA23]]-Tabla134[[#This Row],[PAGOS24]] -> 0 | M20: =M19+Tabla134[[#This Row],[DEUDA FACTURADA232]]-Tabla134[[#This Row],[PAGOS243]] -> 7687.3 | N20: =Tabla134[[#This Row],[DEUDA FACTURADA]]+Tabla134[[#This Row],[DEUDA FACTURADA2]]+Tabla134[[#This Row],[DEUDA FACTURADA23]]+K19 -> 0 | O20: =Tabla134[[#This Row],[PAGOS]]+Tabla134[[#This Row],[PAGOS2]]+Tabla134[[#This Row],[PAGOS24]]+Tabla134[[#This Row],[PAGOS243]] -> 209526.61 | P20: =P19+Tabla134[[#This Row],[DEUDA FACTURADA2322]]-Tabla134[[#This Row],[PAGOS2433]] -> 328245.78
A21: Diciembre | D21: =D20+Tabla134[[#This Row],[DEUDA FACTURADA]]-Tabla134[[#This Row],[PAGOS]] -> 177790.16 | G21: =G20+Tabla134[[#This Row],[DEUDA FACTURADA2]]-Tabla134[[#This Row],[PAGOS2]] -> 142768.32 | J21: =J20+Tabla134[[#This Row],[DEUDA FACTURADA23]]-Tabla134[[#This Row],[PAGOS24]] -> 0 | M21: =M20+Tabla134[[#This Row],[DEUDA FACTURADA232]]-Tabla134[[#This Row],[PAGOS243]] -> 7687.3 | N21: =Tabla134[[#This Row],[DEUDA FACTURADA]]+Tabla134[[#This Row],[DEUDA FACTURADA2]]+Tabla134[[#This Row],[DEUDA FACTURADA23]]+K20 -> 0 | O21: =Tabla134[[#This Row],[PAGOS]]+Tabla134[[#This Row],[PAGOS2]]+Tabla134[[#This Row],[PAGOS24]]+Tabla134[[#This Row],[PAGOS243]] -> 0 | P21: =P20+Tabla134[[#This Row],[DEUDA FACTURADA2322]]-Tabla134[[#This Row],[PAGOS2433]] -> 328245.78
D22: =D21+Tabla134[[#This Row],[DEUDA FACTURADA]]-Tabla134[[#This Row],[PAGOS]] -> 177790.16 | G22: =G21+Tabla134[[#This Row],[DEUDA FACTURADA2]]-Tabla134[[#This Row],[PAGOS2]] -> 142768.32 | J22: =J21+Tabla134[[#This Row],[DEUDA FACTURADA23]]-Tabla134[[#This Row],[PAGOS24]] -> 0 | M22: =M21+Tabla134[[#This Row],[DEUDA FACTURADA232]]-Tabla134[[#This Row],[PAGOS243]] -> 7687.3 | N22: =Tabla134[[#This Row],[DEUDA FACTURADA]]+Tabla134[[#This Row],[DEUDA FACTURADA2]]+Tabla134[[#This Row],[DEUDA FACTURADA23]]+K21 -> 0 | O22: =Tabla134[[#This Row],[PAGOS]]+Tabla134[[#This Row],[PAGOS2]]+Tabla134[[#This Row],[PAGOS24]]+Tabla134[[#This Row],[PAGOS243]] -> 0 | P22: =P21+Tabla134[[#This Row],[DEUDA FACTURADA2322]]-Tabla134[[#This Row],[PAGOS2433]] -> 328245.78
N23: =Tabla134[[#This Row],[DEUDA FACTURADA]]+Tabla134[[#This Row],[DEUDA FACTURADA2]]+Tabla134[[#This Row],[DEUDA FACTURADA23]]+K22 -> 0 | O23: =Tabla134[[#This Row],[PAGOS]]+Tabla134[[#This Row],[PAGOS2]]+Tabla134[[#This Row],[PAGOS24]]+Tabla134[[#This Row],[PAGOS243]] -> 0 | P23: =Tabla134[[#This Row],[Total]]+Tabla134[[#This Row],[Total2]]+Tabla134[[#This Row],[Total25]]+Tabla134[[#This Row],[Total254]] -> 0
A24: TOTAL

Sheet NOTAS DEFINICION
A1: Hospital Municipal de Hondo Valle
A2: NOTAS A LOS ESTADOS FINANCIEROS
A3: ='Estado de Situación'!A3:B3 -> AL 30 DE NOVIEMBRE 2025
A5: Nota #1 Entidad económica
A7: El Hospital Municipal de Hondo Valle (HMHV) somos una organización estatal o pública, articulada en forma de red por niveles de complejidad, con el firme propósito de brindar servicios de salud con los más altos estándares de calidad, siempre enfocados en la atención a las personas que representan los sectores más vulnerables de la población, y al mismo tiempo contribuyendo a la mejora de los indicadores de salud. La Regional VI de Salud El Valle está formada por tres provincias, Azua, San Juan y Elías Piña, representada cada una de ellas por una Gerencia de Área Elias Piña, convirtiéndose en una institución prestadora de servicios de salud a través de la estructura de la red y contratos con otros prestadores de servicios. Hospital Municipal de Hondo Valle tiene su domicilio en la Calle Duarte No.33 de la Provincia de Elias Piña, R.D. al 30 de noviembre del 2025, el funcionario que está a cargo del Hospital Municipal de Hondo Valle es: Nombre Cargo Dra. Benita Diaz Montero Directora
A9: Nota #2 Base de presentación
A11: Los Estados Financieros han sido preparados de conformidad con las Normas Internacionales de Contabilidad del Sector Público (NICSP), adoptadas por la Dirección General de Contabilidad Gubernamental de la República Dominicana (Digecog).
A12: El Hospital Municipal de Hondo Valle presenta su presupuesto aprobado según la base contable de efectivo y los Estados Financieros sobre la base de acumulación (o devengo) conforme a las estipulaciones d las NICESP 24 “Presentación d Información del Presupuesto en los Estados Financieros”.
A13: El presupuesto se aprueba según la base contable de efectivo siguiendo una clasificación de pago por funciones. El presupuesto aprobado cubre el periodo fiscal que va desde el 1ro., de enero hasta el 31 de diciembre de 2023 y es incluido como información suplementaria en los Estados Financieros y sus Notas.
A14: La emisión y aprobación final de los Estados Financieros debe ser autorizada por el funcionario de más alto nivel
A15: Nota # 3 Moneda funcional y de presentación
A17: Los Estados Financieros están presentados en pesos dominicanos (RD$) moneda de curso legal en República Dominicana.
A19: Nota #4 Uso de estimados y Juicios
A21: La preparación de los Estados Financieros de conormidad con las NICSP, requiere que la administración realice juicios estimaciones y supuestos que afectan la aplicación de las Políticas Contable y los montos de activos, pasivos, ingresos y gastos reportados. Los resultados reales pueden diferir de estas estimaciones.
A23: Medicion de Valores Razonables
... A86: El método de amortización, la vida útil y el valor residual son revisados anualmente, si existe evidencia de algún cambio y se ajustan, si es necesario.

Sheet Est. de Rendimiento Fin
A1: ='Estado de Situación'!A1:B1 -> Hospital Municipal Hondo Valle
A2: Estado de Rendimiento Financiero
A3: ='Estado de Situación'!A3:B3 -> AL 30 DE NOVIEMBRE 2025
A4: (Valores en RD$)
A8: Ingresos (Nota 7) | B8: 2025
A9: Donaciones (Medicamentos) | B9: ='Notas de los estados '!E69 -> 0
A10: Ingresos por venta de servicios | B10: ='Notas de los estados '!E66+'Notas de los estados '!E70 -> 320026.56
A11: Ingresos por anticipo financiero | B11: ='Notas de los estados '!E67 -> 399803.9
A12: Total ingresos | B12: =SUM(B9:B11) -> 719830.46
A14: Gastos (Notas 8,9 10) | B14: 2025
A15: Sueldos, salarios y beneficios a empleados | B15: =-'Notas de los estados '!E79 -> 0
A16: Suministros y material para consumo | B16: =-'Notas de los estados '!E92 -> -281428.08
A17: Otros gastos | B17: =-'Notas de los estados '!E113-'Notas de los estados '!E125 -> -227582.59
A18: Gasto de depreciación y amortización | B18: =-'Notas de los estados '!E99 -> 0
A19: Gastos financieros | B19: =-'Notas de los estados '!E119 -> -1345.03
A20: Total gastos | B20: =SUM(B15:B19) -> -510355.7
A22: Resultado del período (ahorro / desahorro) | B22: =B12+B20 -> 209474.76
A29: Las notas del 7 al 19 son parte integral de estos estados
A33: Idelfonso Montero Dra. Mariolys A. Beriguete Encarnacion Soporte tecnico Directora

Sheet Flujo de Efectivo
A1: ='Estado de Situación'!A1:B1 -> Hospital Municipal Hondo Valle
A2: Estado de Flujo de Efectivo
A3: ='Est. de Rendimiento Fin'!A3:B3 -> AL 30 DE NOVIEMBRE 2025
A4: (Valores en RD$)
A6: Flujo de efectivo procedentes de actividades operativas | B6: 2025
B9: 0
A10: Cobros de subvenciones, transferencias, y otras asignaciones | B10: ='Notas de los estados '!E66+'Notas de los estados '!E67 -> 689830.46
A11: Otros cobros (nota 13) | B11: ='Notas de los estados '!E69+'Notas de los estados '!E70 -> 30000
A12: Pagos a los trabajadores o en beneficio de ellos | B12: =-'Notas de los estados '!E79 -> 0
A13: Pagos a proveedores | B13: =-'Notas de los estados '!E92 -> -281428.08
A14: Otros pagos | B14: =-'Notas de los estados '!E113-'Notas de los estados '!E120 -> -208277.62
A15: Flujos de efectivo netos de las actividades de operación
A17: Flujos de efectivo netos por las actividades de inversión | B17: =-'Notas de los estados '!E125 -> -20650
A20: Incremento/(Disminución) neta en el efectivo y equivalentes al efectivo | B20: =SUM(B9:B19) -> 209474.76
A21: Efectivo y equivalentes al efectivo al principio del periodo | B21: ='efectivo al principio'!C5 -> 33760.37
A22: Efectivo y equivalentes al efectivo al final del periodo | B22: =SUM(B20:B21) -> 243235.13
A25: La diferencia entre el efectivo caja y banco y el flujo del efectivo se debe al no pago de retenciones realizada a proveedores por un monto de RD$
A29: Idelfonso Montero Dra. Mariolys A. Beriguete Encarnacion Soporte tecnico Directora
A36: Las notas del 7 al 19 son parte integral de estos estados

Sheet efectivo al principio
A1: Descripcion | B1: Banco | C1: 2025
A2: En caja | B2: Caja
A3: Cuenta Fondos Reponibles | B3: Banreservas | C3: 752.91
A4: Cuenta Venta de servicio | B4: Banreservas | C4: 33007.46
A5: TOTAL | C5: =SUM(C2:C4) -> 33760.37

Sheet Estado Comparativo
A1: ='[8]Estado de Situación'!A1:C1 -> Hospital Municipal Hondo Valle
A2: Estado Comparativo de los Importes Presupuestados y Realizados
A3: ='Flujo de Efectivo'!A3:B3 -> AL 30 DE NOVIEMBRE 2025
A4: Presupuesto sobre la Base de Efectivo
A5: (Clasificación de Ingresos y Gastos por Objeto)
A7: Concepto | C7: Presupuesto Reformado (A) | D7: Presupuesto Ejecutado (B) | E7: % de Varia Ejecución (C=B/A) | F7: Variación (D=A-B)
A8: 1 | B8: Ingresos totales | C8: =SUM(C9:C13) -> 40759155 | D8: =SUM(D9:D13) -> 753590.83 | E8: =D8/C8 -> 0.018488873 | F8: =C8-D8 -> 40005564
A9: 1.1 | B9: Aporte SNS (Nomina) | C9: =[9]PPNE4!$G$11 -> 32814445 | E9: =D9/C9 -> 0 | F9: =C9-D9 -> 32814445
A10: 1.2 | B10: Transferencias | C10: =[9]PPNE4!$G$9 -> 4000000 | D10: ='Notas de los estados '!E67 -> 399803.9 | E10: =D10/C10 -> 0.099950975 | F10: =C10-D10 -> 3600196.1
A11: 1.3 | B11: Venta de servicios | C11: =[9]PPNE4!$G$10 -> 2590949.5 | D11: ='Notas de los estados '!E66+'Notas de los estados '!E70 -> 320026.56 | E11: =D11/C11 -> 0.12351709 | F11: =C11-D11 -> 2270923
A12: 1.4 | B12: Otros aportes (medicamentos) | C12: 1320000 | D12: ='Notas de los estados '!E69 -> 0
A13: 1.5 | B13: Disponibilidad interna | C13: ='efectivo al principio'!C5 -> 33760.37 | D13: ='efectivo al principio'!C5 -> 33760.37 | F13: =C13-D13 -> 0
A14: 2 | B14: Gastos totales | C14: =SUM(C15:C19) -> 40729688 | D14: =SUM(D15:D20) -> 510355.7 | E14: =D14/C14 -> 0.012530312 | F14: =C14-D14 -> 40219332
A15: 2.1 | B15: Remuneraciones y contribuciones | C15: =[9]PPNE5!$J$20 -> 33034676 | D15: ='Notas de los estados '!E79 -> 0 | E15: =D15/C15 -> 0 | F15: =C15-D15 -> 33034676
A16: 2.2 | B16: Contratación de servicios | C16: 3332036.6 | D16: ='Notas de los estados '!E113 -> 206932.59 | E16: =D16/C16 -> 0.062103936 | F16: =C16-D16 -> 3125104
A17: 2.3 | B17: Materiales y suministros | C17: =[9]PPNE5!$J$170 -> 4216975.3 | D17: ='Notas de los estados '!E92 -> 281428.08 | E17: =D17/C17 -> 0.066736952 | F17: =C17-D17 -> 3935547.2
A18: 2.5 | B18: Bienes muebles, inmuebles e intangibles | C18: =[9]PPNE5!$J$270 -> 120000 | D18: ='Propiedad Planta '!F16 -> 20650 | E18: =D18/C18 -> 0.17208333 | F18: =C18-D18 -> 99350
A19: 2.6 | B19: Gastos financieros | C19: 26000 | D19: ='Notas de los estados '!E120 -> 1345.03 | E19: =D19/C19 -> 0.051731923 | F19: =C19-D19 -> 24654.97
A20: 2.7 | B20: Pagos y obligaciones no reportados
B21: Resultado financiero (1-2) | C21: =C8-C14 -> 29467.26 | D21: =D8-D14 -> 243235.13 | E21: =D21/C21 -> 8.2544197 | F21: =C21-D21 -> -213767.87
A23: La diferencia entre el efectivo caja y banco y el flujo del efectivo se debe al no pago de retenciones realizada a proveedores por un monto de RD$5,555.88
B27: Firma de la Directora | E27: Firma de la Administradora
B32: Firma del Contralor | E32: Firma del Contador
B35: Las notas del 7 al 18 son parte integral de estos estados

Sheet Propiedad Planta 
A1: Propiedad, Planta y Equipo (Nota 10)
A3: Un detalle de Propiedad, Planta y equipos neto al 31 octubre del 2025 es como sigue:
A5: El movimiento de la propiedad, planta y equipos y depreciación acumulada al 30 de noviembre del 2025 es como sigue:
F8: Mobiliario y Equipos de Oficina | G8: Equipos de Transporte y Otros
D9: Edificaciones y Componentes | E9: Maquinarias y Equipos | H9: Construcciones en Proceso
B10: Terreno | C10: Infraestructura | I10: Total
A15: Costos de adquisicion (2024) | B15: 0 | C15: 1 | D15: 1 | E15: 1 | F15: 203366.3 | G15: 0 | H15: 0 | I15: =SUM(B15:H15) -> 203369.3
A16: Adiciones | B16: 0 | F16: ='Notas de los estados '!E125 -> 20650 | I16: =SUM(B16:H16) -> 20650
A17: Superávit revaluación | B17: 0 | I17: =SUM(B17:H17) -> 0
A18: Retiros | B18: 0 | I18: =SUM(B18:H18) -> 0
A19: Otros | B19: 0 | I19: =SUM(B19:H19) -> 0
A20: Transferencias | B20: 0 | I20: =SUM(B20:H20) -> 0
A21: Saldo al Final del Periodo | B21: =SUM(B15:B20) -> 0 | C21: =SUM(C15:C20) -> 1 | D21: =SUM(D15:D20) -> 1 | E21: =SUM(E15:E20) -> 1 | F21: =SUM(F15:F20) -> 224016.3 | G21: =SUM(G15:G20) -> 0 | H21: =SUM(H15:H20) -> 0 | I21: =SUM(I15:I20) -> 224019.3
A22: Depreciación acumulada al inicio del Período | I22: =SUM(B22:H22) -> 0
A23: Cargo del período | I23: =SUM(B23:H23) -> 0
A24: Retiros | I24: =SUM(B24:H24) -> 0
A25: Saldo al final del período | B25: =SUM(B22:B24) -> 0 | C25: =SUM(C22:C24) -> 0 | D25: =SUM(D22:D24) -> 0 | E25: =SUM(E22:E24) -> 0 | F25: =SUM(F22:F24) -> 0 | G25: =SUM(G22:G24) -> 0 | H25: =SUM(H22:H24) -> 0 | I25: =SUM(I22:I24) -> 0
A26: Propiedad, planta y equipos Neto (2025) | B26: =B21-B25 -> 0 | C26: =C21-C25 -> 1 | D26: =D21-D25 -> 1 | E26: =E21-E25 -> 1 | F26: =F21-F25 -> 224016.3 | G26: =G21-G25 -> 0 | H26: =H21-H25 -> 0 | I26: =I21-I25 -> 224019.3
A28: Aprobado por: | G28: Revisado por
A29: Dra. Mariolys A. Beriguete Encarnacion | G29: Idelfonso Montero
A30: Directora | G30: Soporte Tecnico y Financiero

Sheet activos fijos
A1: HOSPITAL MUNICIPAL HONDO VALLE
A2: ADICIONES | C2: 45900
A3: CODIGO | B3: FECHA DE RECEPCION | C3: DESCRIPCION DEL ACTIVO | D3: MARCA | E3: MODELO | F3: TIPO DE BIEN | G3: RAZON DE ADQUISICION | H3: SUPLIDOR | I3: PROCESO/ ORDEN DE COMPRA | J3: CONDUCE | K3: NO. FACTURA | L3: FECHA DE FACTURA | M3: COSTO DE ADQUISICION
A4: SRSEV-314-00264 | B4: 45099 | C4: UPS COLOR NEGRO | D4: FORZA | E4: 250WATLS NT-5110 | F4: MUEBLES | G4: COMPRA MENOR | H4: PAPELERIA INDUSTRIAL FRANCISCO SRL | I4: ADQUIRIDO | K4: B1500000061 | L4: 45230 | M4: 4300
A5: SRSEV-314-00266 | B5: 45099 | C5: CPU | D5: DELL | E5: REFURBISHED | F5: MUEBLES | G5: COMPRA MENOR | H5: PAPELERIA INDUSTRIAL FRANCISCO SRL | I5: ADQUIRIDO | K5: B1500000061 | L5: 45230 | M5: 11500
A6: SRSEV-314-00268 | B6: 45099 | C6: CPU | D6: DELL | E6: REFURBISHED | F6: MUEBLES | G6: COMPRA MENOR | H6: PAPELERIA INDUSTRIAL FRANCISCO SRL | I6: ADQUIRIDO | K6: B1500000061 | L6: 45230 | M6: 11500
A7: SRSEV-314-00269 | B7: 45099 | C7: CPU | D7: DELL | E7: REFURBISHED | F7: MUEBLES | G7: COMPRA MENOR | H7: PAPELERIA INDUSTRIAL FRANCISCO SRL | I7: ADQUIRIDO | K7: B1500000061 | L7: 45230 | M7: 11500
A8: SRSEV-314-00261 | B8: 45099 | C8: UPS COLOR NEGRO | D8: FORZA | E8: 250WATLS NT-5110 | F8: MUEBLES | G8: COMPRA MENOR | H8: PAPELERIA INDUSTRIAL FRANCISCO SRL | I8: ADQUIRIDO | K8: B1500000061 | L8: 45230 | M8: 4300
A9: SRSEV-314-00262 | B9: 45107 | C9: UPS COLOR NEGRO | D9: FORZA | E9: 250WATLS NT-5110 | F9: MUEBLES | G9: COMPRA MENOR | H9: PAPELERIA INDUSTRIAL FRANCISCO SRL | I9: ADQUIRIDO | K9: B1500000061 | L9: 45230 | M9: 4300
A10: SRSEV-314-00263 | B10: 45139 | C10: UPS COLOR NEGRO | D10: FORZA | E10: 250WATLS NT-5110 | F10: MUEBLES | G10: COMPRA MENOR | H10: PAPELERIA INDUSTRIAL FRANCISCO SRL | I10: ADQUIRIDO | K10: B1500000061 | L10: 45230 | M10: 4300
A11: SRSEV-314-00253 | B11: 45222 | C11: SILLA DE VISITA | D11: N/A | E11: N/A | F11: MUEBLES | G11: COMPRA MENOR | H11: LIBRERÍA LA FUENTE Y MISCELANEAS | I11: ADQUIRIDO | J11: 99986865 | K11: B1500004084 | L11: 45099 | M11: 3000
A12: SRSEV-314-00254 | B12: 45229 | C12: SILLON EJECUTIVO | D12: N/A | E12: N/A | F12: MUEBLES | G12: COMPRA MENOR | H12: LIBRERÍA LA FUENTE Y MISCELANEAS | I12: ADQUIRIDO | J12: 99986865 | K12: B1500004084 | L12: 45099 | M12: 7990
A13: SRSEV-314-00255 | B13: 45229 | C13: SILLON PARA SECRETARIA | D13: N/A | E13: N/A | F13: MUEBLES | G13: COMPRA MENOR | H13: LIBRERÍA LA FUENTE Y MISCELANEAS | I13: ADQUIRIDO | J13: 99986865 | K13: B1500004084 | L13: 45099 | M13: 6000
A14: SRSEV-314-00256 | B14: 45229 | C14: IMPRESORA | D14: EPSON | E14: ECOTANK L3250 | F14: MUEBLES | G14: COMPRA MENOR | H14: LIBRERÍA LA FUENTE Y MISCELANEAS | I14: ADQUIRIDO | J14: 99986865 | K14: B1500004084 | L14: 45099 | M14: 22000
A15: SRSEV-314-00258 | B15: 45229 | C15: ESCRITORIO EN MADERA | D15: N/A | E15: N/A | F15: MUEBLES | G15: COMPRA MENOR | H15: LIBRERÍA LA FUENTE Y MISCELANEAS | I15: ADQUIRIDO | J15: 99986865 | K15: B1500004084 | L15: 45099 | M15: 8200
A16: SRSEV-314-00260 | B16: 45229 | C16: IMPRESORA MULTIFUNCIONAL | D16: EPSON | E16: 5590 | F16: MUEBLES | G16: COMPRA MENOR | H16: PAPELERIA INDUSTRIAL FRANCISCO SRL | I16: ADQUIRIDO | J16: 289 | K16: B1500000060 | L16: 45222 | M16: 32000
A17: SRSEV-314-00274 | B17: 45229 | C17: LAPTOP | D17: LENOVO | E17: INTEL CELERON | F17: MUEBLES | G17: COMPRA MENOR | H17: PAPELERIA INDUSTRIAL FRANCISCO SRL | I17: ADQUIRIDO | J17: 291 | K17: B150000062 | L17: 45237 | M17: 30400
A18: SRSEV-314-00259 | B18: 45229 | C18: TELEVISION LED | D18: TECNOMASTER | E18: CH50G7US 50 K | F18: MUEBLES | G18: COMPRA MENOR | H18: PAPELERIA INDUSTRIAL FRANCISCO SRL | I18: ADQUIRIDO | K18: B1500035197 | L18: 45139 | M18: 27490
A19: SRSEV-314-00273 | B19: 45237 | C19: SILLON EJECUTIVO | D19: N/A | E19: N/A | F19: MUEBLES | G19: COMPRA MENOR | H19: LIBRERÍA LA FUENTE Y MISCELANEAS | I19: ADQUIRIDO | J19: 899982285 | K19: B1500004534 | L19: 45107 | M19: 13500
A20: SRSEV-314-00275 | B20: 45334 | C20: SILLA SECRETARIA | D20: RUDO | E20: N/A | F20: MUEBLES | G20: COMPRA MENOR | H20: A&J -ENCARNACION | I20: ADQUIRIDO | J20: 46 | K20: B1500000046 | L20: 45334 | M20: 7000
A21: SRSEV-314-00276 | B21: 45334 | C21: SILLA SECRETARIA | D21: RUDO | E21: N/A | F21: MUEBLES | G21: COMPRA MENOR | H21: A&J -ENCARNACION | I21: ADQUIRIDO | J21: 46 | K21: B1500000046 | L21: 45334 | M21: 7000
A22: SRSEV-314-00277 | B22: 45334 | C22: SILLA EJECUTIVA | D22: RUDO | E22: N/A | F22: MUEBLES | G22: COMPRA MENOR | H22: A&J -ENCARNACION | I22: ADQUIRIDO | J22: 46 | K22: B1500000046 | L22: 45334 | M22: 9000
C23: COMPRENSOR | M23: ='[10]CONS. FUENTES FINAN'!$J$336 -> 58640
B24: 45834 | C24: COMPUTADORA | D24: DELL | F24: TECNOLOGICO | H24: PAPELERIA INDUSTRIAL FRANCISCO SRL | I24: ADQUIRIDO | K24: B1500000078 | L24: 45807 | M24: 15000
B25: 45834 | C25: COMPUTADORA | D25: DELL | F25: TECNOLOGICO | H25: PAPELERIA INDUSTRIAL FRANCISCO SRL | I25: ADQUIRIDO | K25: B1500000078 | L25: 45807 | M25: 15000
B26: 45834 | C26: COMPUTADORA | D26: DELL | F26: TECNOLOGICO | H26: PAPELERIA INDUSTRIAL FRANCISCO SRL | I26: ADQUIRIDO | K26: B1500000078 | L26: 45807 | M26: 15000
B27: 45834 | C27: COMPUTADORA | D27: DELL | F27: TECNOLOGICO | H27: PAPELERIA INDUSTRIAL FRANCISCO SRL | I27: ADQUIRIDO | K27: B1500000078 | L27: 45807 | M27: 15000
B28: 45834 | C28: UPS | D28: UPS | F28: TECNOLOGICO | H28: PAPELERIA INDUSTRIAL FRANCISCO SRL | I28: ADQUIRIDO | K28: B1500000078 | L28: 45807 | M28: 4800
B29: 45834 | C29: UPS | D29: UPS | F29: TECNOLOGICO | H29: PAPELERIA INDUSTRIAL FRANCISCO SRL | I29: ADQUIRIDO | K29: B1500000078 | L29: 45807 | M29: 4800
B30: 45834 | C30: UPS | D30: UPS | F30: TECNOLOGICO | H30: PAPELERIA INDUSTRIAL FRANCISCO SRL | I30: ADQUIRIDO | K30: B1500000078 | L30: 45807 | M30: 4800
B31: 45834 | C31: UPS | D31: UPS | F31: TECNOLOGICO | H31: PAPELERIA INDUSTRIAL FRANCISCO SRL | I31: ADQUIRIDO | K31: B1500000078 | L31: 45807 | M31: 4800
B32: 45792 | C32: ARCHIVO DE TRES GAVETAS | F32: MOBILIARIO OFICINA | H32: A&J ENCARNACION | I32: ADQUIRIDO | K32: B1500000144 | M32: 11300
B33: 45792 | C33: ARCHIVO DE TRES GAVETAS | F33: MOBILIARIO OFICINA | H33: A&J ENCARNACION | I33: ADQUIRIDO | K33: B1500000144 | M33: 11300
B34: 45792 | C34: AIRE ACONDICIONADO | D34: AMERICAN 24VTW | F34: EQUIPO CLIMATIZACION | H34: A&J ENCARNACION | I34: ADQUIRIDO | K34: B1500000135 | M34: 48050
B35: 45792 | C35: AIRE ACONDICIONADO | D35: AMERICAN 12VTW | H35: A&J ENCARNACION | I35: ADQUIRIDO | K35: B1500000136 | M35: 27500
A39: TOTAL | M39: =SUM(M4:M38) -> 461270
A41: Encargado proteccion de bienes
A42: ______________________________________________
